BEGIN:VCALENDAR
VERSION:2.0
PRODID:-//wp-events-plugin.com//7.2.3.1//EN
TZID:Europe/Berlin
X-WR-TIMEZONE:Europe/Berlin
BEGIN:VEVENT
UID:52@mehrinbalance.de
DTSTART;TZID=Europe/Berlin:20260611T183000
DTEND;TZID=Europe/Berlin:20260730T193000
DTSTAMP:20260112T145000Z
URL:https://mehrinbalance.de/events/qi-gong-die-vier-regulationsmethoden-d
 onnerstags-8-x-60-min/
SUMMARY:Qi Gong - die vier Regulationsmethoden (donnerstags 8 x 60 min)
DESCRIPTION:\nDie vier Regulationsmethoden bilden eine gelungene Basis für
  das Erlernen von Qi Gong und seiner Wirkung auf unsere Erholung und Entsp
 annung. Beginnend mit der Methode zur Regulierung des Geistes wird die Auf
 merksamkeit durch einfache Haltungen und die Vorstellungskraft gebündelt 
 und beruhigt. Mit der Methode zur Regulierung des Atmens werden wir dem ei
 genen Rhythmus folgend von innen sanft gedehnt und gelöst. Die Methode zu
 r Regulierung des Körpers lässt uns geschmeidig und weich werden\, so da
 ss sich muskuläre Spannungen lösen können. Bei der Methode zum Inneren 
 Nähren helfen uns Vorstellungsbilder Kraft und Energie zu sammeln und sic
 h so für Stresssituationen zu wappnen.\nDieser Kurs wird von den gesetzli
 chen Krankenkassen als Präventionsmaßnahme anerkannt.\n
ATTACH;FMTTYPE=image/jpeg:https://mehrinbalance.de/wp-content/uploads/2026
 /01/P1220768_klein-scaled.jpg
CATEGORIES:Präsenz-Veranstaltungen
LOCATION:Kursraum Weinstadt\, Großheppacher Str. 62\, Weinstadt-Endersbach
 \, Baden-Württemberg\, 71384\, Deutschland
X-APPLE-STRUCTURED-LOCATION;VALUE=URI;X-ADDRESS=Großheppacher Str. 62\, We
 instadt-Endersbach\, Baden-Württemberg\, 71384\, Deutschland;X-APPLE-RADI
 US=100;X-TITLE=Kursraum Weinstadt:geo:0,0
END:VEVENT
BEGIN:VTIMEZONE
TZID:Europe/Berlin
X-LIC-LOCATION:Europe/Berlin
BEGIN:DAYLIGHT
DTSTART:20260329T030000
TZOFFSETFROM:+0100
TZOFFSETTO:+0200
TZNAME:CEST
END:DAYLIGHT
END:VTIMEZONE
END:VCALENDAR